BEGIN:VCALENDAR
VERSION:2.0
PRODID:-//Skupina Gadi - ECPv6.15.20//NONSGML v1.0//EN
CALSCALE:GREGORIAN
METHOD:PUBLISH
X-ORIGINAL-URL:https://gadi.si
X-WR-CALDESC:Dogodki za Skupina Gadi
REFRESH-INTERVAL;VALUE=DURATION:PT1H
X-Robots-Tag:noindex
X-PUBLISHED-TTL:PT1H
BEGIN:VTIMEZONE
TZID:UTC
BEGIN:STANDARD
TZOFFSETFROM:+0000
TZOFFSETTO:+0000
TZNAME:UTC
DTSTART:20230101T000000
END:STANDARD
END:VTIMEZONE
BEGIN:VEVENT
DTSTART;VALUE=DATE:20240119
DTEND;VALUE=DATE:20240120
DTSTAMP:20260421T190550
CREATED:20240109T171754Z
LAST-MODIFIED:20240109T171754Z
UID:4118-1705622400-1705708799@gadi.si
SUMMARY:ANTONOV KONCERT
DESCRIPTION:
URL:https://gadi.si/nastop/antonov-koncert/
LOCATION:KRŠKO
END:VEVENT
END:VCALENDAR