BEGIN:VCALENDAR
VERSION:2.0
PRODID:-//Skupina Gadi - ECPv6.15.20//NONSGML v1.0//EN
CALSCALE:GREGORIAN
METHOD:PUBLISH
X-ORIGINAL-URL:https://gadi.si
X-WR-CALDESC:Dogodki za Skupina Gadi
REFRESH-INTERVAL;VALUE=DURATION:PT1H
X-Robots-Tag:noindex
X-PUBLISHED-TTL:PT1H
BEGIN:VTIMEZONE
TZID:UTC
BEGIN:STANDARD
TZOFFSETFROM:+0000
TZOFFSETTO:+0000
TZNAME:UTC
DTSTART:20220101T000000
END:STANDARD
END:VTIMEZONE
BEGIN:VEVENT
DTSTART;VALUE=DATE:20230701
DTEND;VALUE=DATE:20230702
DTSTAMP:20260425T141810
CREATED:20230315T134855Z
LAST-MODIFIED:20230315T134855Z
UID:4031-1688169600-1688255999@gadi.si
SUMMARY:LJUBLJANA - Veselica PGD Bizovik
DESCRIPTION:
URL:https://gadi.si/nastop/ljubljana-veselica-pgd-bizovik/
END:VEVENT
BEGIN:VEVENT
DTSTART;VALUE=DATE:20230708
DTEND;VALUE=DATE:20230709
DTSTAMP:20260425T141810
CREATED:20230315T134934Z
LAST-MODIFIED:20230315T134934Z
UID:4033-1688774400-1688860799@gadi.si
SUMMARY:PRAGERSKO - Veselica PGD Šikole
DESCRIPTION:
URL:https://gadi.si/nastop/pragersko-veselica-pgd-sikole/
END:VEVENT
BEGIN:VEVENT
DTSTART;VALUE=DATE:20230715
DTEND;VALUE=DATE:20230716
DTSTAMP:20260425T141810
CREATED:20230315T135014Z
LAST-MODIFIED:20230315T135014Z
UID:4035-1689379200-1689465599@gadi.si
SUMMARY:ŠMARTNO OB PAKI - Veselica PGD Paška vas
DESCRIPTION:
URL:https://gadi.si/nastop/smartno-ob-paki-veselica-pgd-paska-vas/
END:VEVENT
BEGIN:VEVENT
DTSTART;VALUE=DATE:20230721
DTEND;VALUE=DATE:20230722
DTSTAMP:20260425T141810
CREATED:20230715T094016Z
LAST-MODIFIED:20230715T094245Z
UID:4065-1689897600-1689983999@gadi.si
SUMMARY:OTOČEC - Veselica (Žur z Gadi & DJ)
DESCRIPTION:
URL:https://gadi.si/nastop/otocec-zur-z-gadi-dj-veselica/
END:VEVENT
END:VCALENDAR