BEGIN:VCALENDAR
VERSION:2.0
PRODID:-//Skupina Gadi - ECPv6.15.20//NONSGML v1.0//EN
CALSCALE:GREGORIAN
METHOD:PUBLISH
X-WR-CALNAME:Skupina Gadi
X-ORIGINAL-URL:https://gadi.si
X-WR-CALDESC:Dogodki za Skupina Gadi
REFRESH-INTERVAL;VALUE=DURATION:PT1H
X-Robots-Tag:noindex
X-PUBLISHED-TTL:PT1H
BEGIN:VTIMEZONE
TZID:UTC
BEGIN:STANDARD
TZOFFSETFROM:+0000
TZOFFSETTO:+0000
TZNAME:UTC
DTSTART:20220101T000000
END:STANDARD
END:VTIMEZONE
BEGIN:VEVENT
DTSTART;VALUE=DATE:20230501
DTEND;VALUE=DATE:20230502
DTSTAMP:20260425T171929
CREATED:20230222T163017Z
LAST-MODIFIED:20230303T130754Z
UID:3805-1682899200-1682985599@gadi.si
SUMMARY:ZAGORJE OB SAVI - Veselica TD Golče
DESCRIPTION:
URL:https://gadi.si/nastop/veselica-td-golce/
END:VEVENT
BEGIN:VEVENT
DTSTART;VALUE=DATE:20230506
DTEND;VALUE=DATE:20230507
DTSTAMP:20260425T171929
CREATED:20230303T131352Z
LAST-MODIFIED:20230303T131809Z
UID:3990-1683331200-1683417599@gadi.si
SUMMARY:MARKOVCI - Klub La Siesta (Nova vas pri Markovcih)
DESCRIPTION:
URL:https://gadi.si/nastop/nova-vas-pri-markovcih-klub-la-siesta/
END:VEVENT
BEGIN:VEVENT
DTSTART;VALUE=DATE:20230513
DTEND;VALUE=DATE:20230514
DTSTAMP:20260425T171929
CREATED:20230303T131449Z
LAST-MODIFIED:20230510T160750Z
UID:3992-1683936000-1684022399@gadi.si
SUMMARY:ŠKOCJAN NA DOLENJSKEM - Veselica PGD Škocjan na Dolenjskem
DESCRIPTION:
URL:https://gadi.si/nastop/skocjan-na-dolenjskem-veselica-pgd-skocjan-na-dolenjskem/
END:VEVENT
BEGIN:VEVENT
DTSTART;VALUE=DATE:20230520
DTEND;VALUE=DATE:20230521
DTSTAMP:20260425T171929
CREATED:20230303T131704Z
LAST-MODIFIED:20230303T131721Z
UID:3994-1684540800-1684627199@gadi.si
SUMMARY:VRHNIKA - Veselica PGD Blatna Brezovica
DESCRIPTION:
URL:https://gadi.si/nastop/blatna-brezovica-veselica-pgd-blatna-brezovica/
END:VEVENT
BEGIN:VEVENT
DTSTART;VALUE=DATE:20230527
DTEND;VALUE=DATE:20230528
DTSTAMP:20260425T171929
CREATED:20230315T134122Z
LAST-MODIFIED:20230315T134531Z
UID:4018-1685145600-1685231999@gadi.si
SUMMARY:IVANČNA GORICA - Veselica PGD Ivančna Gorica
DESCRIPTION:
URL:https://gadi.si/nastop/ivancna-gorica-veselica-pgd-ivancna-gorica/
END:VEVENT
END:VCALENDAR