BEGIN:VCALENDAR
VERSION:2.0
PRODID:-//Skupina Gadi - ECPv6.15.20//NONSGML v1.0//EN
CALSCALE:GREGORIAN
METHOD:PUBLISH
X-WR-CALNAME:Skupina Gadi
X-ORIGINAL-URL:https://gadi.si
X-WR-CALDESC:Dogodki za Skupina Gadi
REFRESH-INTERVAL;VALUE=DURATION:PT1H
X-Robots-Tag:noindex
X-PUBLISHED-TTL:PT1H
BEGIN:VTIMEZONE
TZID:UTC
BEGIN:STANDARD
TZOFFSETFROM:+0000
TZOFFSETTO:+0000
TZNAME:UTC
DTSTART:20230101T000000
END:STANDARD
END:VTIMEZONE
BEGIN:VEVENT
DTSTART;VALUE=DATE:20240824
DTEND;VALUE=DATE:20240825
DTSTAMP:20260421T104534
CREATED:20240109T174054Z
LAST-MODIFIED:20240109T174054Z
UID:4176-1724457600-1724543999@gadi.si
SUMMARY:VESELICA ZAKLJUČEK POLETJA NA SEM'ŠKEM PLACU
DESCRIPTION:
URL:https://gadi.si/nastop/veselica-zakljucek-poletja-na-semskem-placu/
LOCATION:SEMIČ
END:VEVENT
END:VCALENDAR