BEGIN:VCALENDAR
VERSION:2.0
PRODID:-//Skupina Gadi - ECPv6.15.20//NONSGML v1.0//EN
CALSCALE:GREGORIAN
METHOD:PUBLISH
X-ORIGINAL-URL:https://gadi.si
X-WR-CALDESC:Dogodki za Skupina Gadi
REFRESH-INTERVAL;VALUE=DURATION:PT1H
X-Robots-Tag:noindex
X-PUBLISHED-TTL:PT1H
BEGIN:VTIMEZONE
TZID:UTC
BEGIN:STANDARD
TZOFFSETFROM:+0000
TZOFFSETTO:+0000
TZNAME:UTC
DTSTART:20230101T000000
END:STANDARD
END:VTIMEZONE
BEGIN:VEVENT
DTSTART;TZID=UTC:20240713T080000
DTEND;TZID=UTC:20240713T170000
DTSTAMP:20260421T121355
CREATED:20240109T173217Z
LAST-MODIFIED:20240109T173217Z
UID:4157-1720857600-1720890000@gadi.si
SUMMARY:VESELJAK GRE V HRIBE (DOM NA ŠMOHORJU)
DESCRIPTION:
URL:https://gadi.si/nastop/veseljak-gre-v-hribe-dom-na-smohorju/
LOCATION:LAŠKO
END:VEVENT
END:VCALENDAR