BEGIN:VCALENDAR
VERSION:2.0
PRODID:-//Skupina Gadi - ECPv6.15.20//NONSGML v1.0//EN
CALSCALE:GREGORIAN
METHOD:PUBLISH
X-ORIGINAL-URL:https://gadi.si
X-WR-CALDESC:Dogodki za Skupina Gadi
REFRESH-INTERVAL;VALUE=DURATION:PT1H
X-Robots-Tag:noindex
X-PUBLISHED-TTL:PT1H
BEGIN:VTIMEZONE
TZID:UTC
BEGIN:STANDARD
TZOFFSETFROM:+0000
TZOFFSETTO:+0000
TZNAME:UTC
DTSTART:20220101T000000
END:STANDARD
END:VTIMEZONE
BEGIN:VEVENT
DTSTART;VALUE=DATE:20231022
DTEND;VALUE=DATE:20231023
DTSTAMP:20260425T111817
CREATED:20230905T085956Z
LAST-MODIFIED:20230905T085956Z
UID:4079-1697932800-1698019199@gadi.si
SUMMARY:GOSTJE NA KONCERTU ANSAMBLA OPOJ
DESCRIPTION:
URL:https://gadi.si/nastop/gostje-na-koncertu-ansambla-opoj/
LOCATION:ŠIC LJUTOMER
END:VEVENT
END:VCALENDAR