BEGIN:VCALENDAR
VERSION:2.0
PRODID:-//Skupina Gadi - ECPv6.15.20//NONSGML v1.0//EN
CALSCALE:GREGORIAN
METHOD:PUBLISH
X-WR-CALNAME:Skupina Gadi
X-ORIGINAL-URL:https://gadi.si
X-WR-CALDESC:Dogodki za Skupina Gadi
REFRESH-INTERVAL;VALUE=DURATION:PT1H
X-Robots-Tag:noindex
X-PUBLISHED-TTL:PT1H
BEGIN:VTIMEZONE
TZID:UTC
BEGIN:STANDARD
TZOFFSETFROM:+0000
TZOFFSETTO:+0000
TZNAME:UTC
DTSTART:20220101T000000
END:STANDARD
END:VTIMEZONE
BEGIN:VEVENT
DTSTART;TZID=UTC:20230819T080000
DTEND;TZID=UTC:20230819T170000
DTSTAMP:20260425T140418
CREATED:20230315T135258Z
LAST-MODIFIED:20230315T135258Z
UID:4043-1692432000-1692464400@gadi.si
SUMMARY:POLHOV GRADEC - Veselica PGD Polhov Gradec
DESCRIPTION:
URL:https://gadi.si/nastop/polhov-gradec-veselica-pgd-polhov-gradec/
END:VEVENT
END:VCALENDAR